BEGIN:VCALENDAR
VERSION:2.0
PRODID:-//Tukios.com/
BEGIN:VEVENT
UID:353a4b68-4cc3-4756-a016-09c3de543f63@www.siensheltonfh.com
DTSTAMP:20260419T133623Z
DTSTART:20260416T230000Z
DTEND:20260417T010000Z
SUMMARY:Visitation with Family
DESCRIPTION:
URL:https://www.siensheltonfh.com/obituaries/bonnie-kay-switzner
LOCATION: 1000 S Lombard Ln  Skiatook OK 74070
GEO:36.3609363;-96.0138051
END:VEVENT
END:VCALENDAR